BEGIN:VCALENDAR
VERSION:2.0
PRODID:-//Jafa - ECPv6.15.20//NONSGML v1.0//EN
CALSCALE:GREGORIAN
METHOD:PUBLISH
X-ORIGINAL-URL:https://www.jafamatinik.mq
X-WR-CALDESC:Évènements pour Jafa
REFRESH-INTERVAL;VALUE=DURATION:PT1H
X-Robots-Tag:noindex
X-PUBLISHED-TTL:PT1H
BEGIN:VTIMEZONE
TZID:America/Martinique
BEGIN:STANDARD
TZOFFSETFROM:-0400
TZOFFSETTO:-0400
TZNAME:AST
DTSTART:20240101T000000
END:STANDARD
END:VTIMEZONE
BEGIN:VEVENT
DTSTART;TZID=America/Martinique:20250325T070000
DTEND;TZID=America/Martinique:20251231T190000
DTSTAMP:20260420T224901
CREATED:20250325T194920Z
LAST-MODIFIED:20250325T194920Z
UID:2671-1742886000-1767207600@www.jafamatinik.mq
SUMMARY:Atelier de sensibilisation à la chlordécone
DESCRIPTION:Tous les deuxièmes vendredis de chaque mois\, participez à un atelier de sensibilisation à la chlordécone\, organisé par l’un de nos partenaires ! \nHoraires : 7h – 19h \nLieu : Lakou Saint-Georges de Batelière\, 97233 Schoelcher (en face de l’école primaire de Batelière) \nParticipation : Gratuite \nInformations : 0696 277 968 ou 0696 178 956
URL:https://www.jafamatinik.mq/event/atelier-de-sensibilisation-a-la-chlordecone/
LOCATION:Lakou Saint-Georges\, Batelière\, Schoelcher\, 97233
ATTACH;FMTTYPE=image/jpeg:https://www.jafamatinik.mq/wp-content/uploads/WhatsApp-Image-2025-03-22-a-13.26.20_3ca34ff8.jpg
ORGANIZER;CN="Le Panier de Gabriel":MAILTO:lepanierdegabriel@gmail.com
END:VEVENT
END:VCALENDAR