BEGIN:VCALENDAR
VERSION:2.0
PRODID:-//Jafa - ECPv6.15.20//NONSGML v1.0//EN
CALSCALE:GREGORIAN
METHOD:PUBLISH
X-ORIGINAL-URL:https://www.jafamatinik.mq
X-WR-CALDESC:Évènements pour Jafa
REFRESH-INTERVAL;VALUE=DURATION:PT1H
X-Robots-Tag:noindex
X-PUBLISHED-TTL:PT1H
BEGIN:VTIMEZONE
TZID:America/Martinique
BEGIN:STANDARD
TZOFFSETFROM:-0400
TZOFFSETTO:-0400
TZNAME:AST
DTSTART:20240101T000000
END:STANDARD
END:VTIMEZONE
BEGIN:VEVENT
DTSTART;TZID=America/Martinique:20250906T000000
DTEND;TZID=America/Martinique:20250906T000000
DTSTAMP:20260420T150854
CREATED:20250825T180223Z
LAST-MODIFIED:20250917T154850Z
UID:2799-1757116800-1757116800@www.jafamatinik.mq
SUMMARY:Atelier Nutrition
DESCRIPTION:Atelier Nutrition\n\nBien consommer les produits du terroir. \nLes ateliers Jafa en nutrition sont conçus pour apporter des recommandations utiles aux usagers pour leur permettre de bien manger. Ils les aident à améliorer leurs connaissances sur : \n\nl’équilibre\, la diversification et la sécurité alimentaires\nla réduction de l’exposition alimentaire à la chlordécone des consommateurs\nles conseils nutritionnels pour une alimentation saine\, équilibrée et la préservation d’un capital santé\nla valorisation de la production locale et les bienfaits de la consommation des produits de notre terroir\nla qualité gustative des produits agricoles et de l’élevage locaux\n\n\nDate : samedi 6 septembre 2025 \nParticipation gratuite – Inscription obligatoire \nPour en savoir plus et réserver votre place\, contactez la Fredon Martinique au : 05 96 73 58 88
URL:https://www.jafamatinik.mq/event/atelier-nutrition-3/
CATEGORIES:Atelier "Nutrition"
ATTACH;FMTTYPE=image/jpeg:https://www.jafamatinik.mq/wp-content/uploads/AtelierNutrition2025.jpg
END:VEVENT
BEGIN:VEVENT
DTSTART;TZID=America/Martinique:20250913T000000
DTEND;TZID=America/Martinique:20250913T000000
DTSTAMP:20260420T150854
CREATED:20250825T180454Z
LAST-MODIFIED:20250917T154814Z
UID:2801-1757721600-1757721600@www.jafamatinik.mq
SUMMARY:Atelier Nutrition
DESCRIPTION:Atelier Nutrition\n\nBien consommer les produits du terroir. \nLes ateliers Jafa en nutrition sont conçus pour apporter des recommandations utiles aux usagers pour leur permettre de bien manger. Ils les aident à améliorer leurs connaissances sur : \n\nl’équilibre\, la diversification et la sécurité alimentaires\nla réduction de l’exposition alimentaire à la chlordécone des consommateurs\nles conseils nutritionnels pour une alimentation saine\, équilibrée et la préservation d’un capital santé\nla valorisation de la production locale et les bienfaits de la consommation des produits de notre terroir\nla qualité gustative des produits agricoles et de l’élevage locaux\n\n\nDate : samedi 13 septembre 2025 \nParticipation gratuite – Inscription obligatoire \nPour en savoir plus et réserver votre place\, contactez la Fredon Martinique au : 05 96 73 58 88
URL:https://www.jafamatinik.mq/event/atelier-nutrition-4/
CATEGORIES:Atelier "Nutrition"
ATTACH;FMTTYPE=image/jpeg:https://www.jafamatinik.mq/wp-content/uploads/AtelierNutrition2025.jpg
END:VEVENT
BEGIN:VEVENT
DTSTART;TZID=America/Martinique:20250920T000000
DTEND;TZID=America/Martinique:20250920T000000
DTSTAMP:20260420T150854
CREATED:20250825T180713Z
LAST-MODIFIED:20250917T154041Z
UID:2805-1758326400-1758326400@www.jafamatinik.mq
SUMMARY:Atelier Nutrition
DESCRIPTION:Atelier Nutrition\n\nBien consommer les produits du terroir. \nLes ateliers Jafa en nutrition sont conçus pour apporter des recommandations utiles aux usagers pour leur permettre de bien manger. Ils les aident à améliorer leurs connaissances sur : \n\nl’équilibre\, la diversification et la sécurité alimentaires\nla réduction de l’exposition alimentaire à la chlordécone des consommateurs\nles conseils nutritionnels pour une alimentation saine\, équilibrée et la préservation d’un capital santé\nla valorisation de la production locale et les bienfaits de la consommation des produits de notre terroir\nla qualité gustative des produits agricoles et de l’élevage locaux\n\n\nDate : samedi 20 septembre 2025 \nParticipation gratuite – Inscription obligatoire \nPour en savoir plus et réserver votre place\, contactez la Fredon Martinique au : 05 96 73 58 88
URL:https://www.jafamatinik.mq/event/atelier-nutrition-5/
CATEGORIES:Atelier "Nutrition"
ATTACH;FMTTYPE=image/jpeg:https://www.jafamatinik.mq/wp-content/uploads/AtelierNutrition2025.jpg
END:VEVENT
BEGIN:VEVENT
DTSTART;TZID=America/Martinique:20250927T000000
DTEND;TZID=America/Martinique:20250927T000000
DTSTAMP:20260420T150854
CREATED:20250825T180847Z
LAST-MODIFIED:20250917T154139Z
UID:2807-1758931200-1758931200@www.jafamatinik.mq
SUMMARY:Atelier Nutrition
DESCRIPTION:Atelier Nutrition\n\nBien consommer les produits du terroir. \nLes ateliers Jafa en nutrition sont conçus pour apporter des recommandations utiles aux usagers pour leur permettre de bien manger. Ils les aident à améliorer leurs connaissances sur : \n\nl’équilibre\, la diversification et la sécurité alimentaires\nla réduction de l’exposition alimentaire à la chlordécone des consommateurs\nles conseils nutritionnels pour une alimentation saine\, équilibrée et la préservation d’un capital santé\nla valorisation de la production locale et les bienfaits de la consommation des produits de notre terroir\nla qualité gustative des produits agricoles et de l’élevage locaux\n\n\nDate : samedi 27 septembre 2025 \nParticipation gratuite – Inscription obligatoire \nPour en savoir plus et réserver votre place\, contactez la Fredon Martinique au : 05 96 73 58 88
URL:https://www.jafamatinik.mq/event/atelier-nutrition-6/
CATEGORIES:Atelier "Nutrition"
ATTACH;FMTTYPE=image/jpeg:https://www.jafamatinik.mq/wp-content/uploads/AtelierNutrition2025.jpg
END:VEVENT
END:VCALENDAR