BEGIN:VCALENDAR
VERSION:2.0
PRODID:-//Jafa - ECPv6.15.20//NONSGML v1.0//EN
CALSCALE:GREGORIAN
METHOD:PUBLISH
X-ORIGINAL-URL:https://www.jafamatinik.mq
X-WR-CALDESC:Évènements pour Jafa
REFRESH-INTERVAL;VALUE=DURATION:PT1H
X-Robots-Tag:noindex
X-PUBLISHED-TTL:PT1H
BEGIN:VTIMEZONE
TZID:America/Martinique
BEGIN:STANDARD
TZOFFSETFROM:-0400
TZOFFSETTO:-0400
TZNAME:AST
DTSTART:20240101T000000
END:STANDARD
END:VTIMEZONE
BEGIN:VEVENT
DTSTART;TZID=America/Martinique:20251031T000000
DTEND;TZID=America/Martinique:20251031T000000
DTSTAMP:20260421T161307
CREATED:20250825T192959Z
LAST-MODIFIED:20250917T160309Z
UID:2846-1761868800-1761868800@www.jafamatinik.mq
SUMMARY:Atelier «Bokantaj et Chlordéconémie»
DESCRIPTION:Atelier « Bokantaj et Chlordéconémie »\n\nUne rencontre pour répondre à toutes vos questions et préoccupations sur le chlordécone et la chlordéconémie.  \nTout ce que vous devez savoir pour mieux connaître les risques liés à la consommation\, les méthodes de décontamination\, réflexes de prévention à adopter pour lutter contre l’exposition au chlordécone. \n__________________________\nDate : vendredi 31 octobre 2025 \nParticipation gratuite – Inscription obligatoire \nPour en savoir plus et réserver votre place\, contactez la Fredon Martinique au : 05 96 73 58 88
URL:https://www.jafamatinik.mq/event/atelier-bokantaj-et-chlordeconemie-2/
CATEGORIES:Atelier "Chlordéconémie"
ATTACH;FMTTYPE=image/jpeg:https://www.jafamatinik.mq/wp-content/uploads/Jafa-famille-laboratoire-3.jpg
END:VEVENT
END:VCALENDAR