BEGIN:VCALENDAR
VERSION:2.0
PRODID:-//Jafa - ECPv6.15.20//NONSGML v1.0//EN
CALSCALE:GREGORIAN
METHOD:PUBLISH
X-WR-CALNAME:Jafa
X-ORIGINAL-URL:https://www.jafamatinik.mq
X-WR-CALDESC:Évènements pour Jafa
REFRESH-INTERVAL;VALUE=DURATION:PT1H
X-Robots-Tag:noindex
X-PUBLISHED-TTL:PT1H
BEGIN:VTIMEZONE
TZID:America/Martinique
BEGIN:STANDARD
TZOFFSETFROM:-0400
TZOFFSETTO:-0400
TZNAME:AST
DTSTART:20220101T000000
END:STANDARD
END:VTIMEZONE
BEGIN:VEVENT
DTSTART;TZID=America/Martinique:20230310T180000
DTEND;TZID=America/Martinique:20230310T200000
DTSTAMP:20260423T111439
CREATED:20230214T135444Z
LAST-MODIFIED:20230411T154301Z
UID:2023-1678471200-1678478400@www.jafamatinik.mq
SUMMARY:Atelier Chlordéconémie - 10 mars 2023 - IREPS Martinique
DESCRIPTION:Le Centre culturel de Chateauboeuf vous invite à un « Atelier Chlordéconémie »\, proposé et animé par l’IREPS Martinique\, à destination de son public. \nLes places étant limitées\, inscrivez-vous dès maintenant pour le vendredi 10 mars 2023 à 18h00 précises. \nVous bénéficierez de conseils d’experts en santé environnementale\, pour apprendre les bons gestes et les bons réflexes alimentaires nécessaires pour stopper votre exposition à la chlordécone. \nL’occasion d’en savoir plus sur l’accompagnement personnalisé et gratuit mis en place avec des professionnels de santé. \nDurée de l’atelier : 1h30 \nLieu : Centre culturel de Châteaubœuf – Boulevard de la solidarité – Zac de Châteaubœuf – Fort-de-France \nPartenaires : Ville de Fort-de-France – CLS de la Ville de Fort-de-France – SERMAC – Centre culturel de Chateauboeuf – ARS Martinique – IREPS Martinique \n______________________ \nModalités d’inscription : participation gratuite mais inscription obligatoire au 0696 04 32 47. \n\nCliquez ici pour en savoir plus sur les « ateliers chlordéconémie »
URL:https://www.jafamatinik.mq/event/atelier-chlordeconemie-10-mars-2023-ireps-martinique/
CATEGORIES:Atelier "Chlordéconémie"
ATTACH;FMTTYPE=image/jpeg:https://www.jafamatinik.mq/wp-content/uploads/2023-JafaVignetteAteliersChlordeconemieSiteJafa-1.jpg
END:VEVENT
BEGIN:VEVENT
DTSTART;TZID=America/Martinique:20230317T140000
DTEND;TZID=America/Martinique:20230317T153000
DTSTAMP:20260423T111439
CREATED:20230310T163752Z
LAST-MODIFIED:20230411T154226Z
UID:2080-1679061600-1679067000@www.jafamatinik.mq
SUMMARY:Atelier Chlordéconémie – 17 mars 2023 – IREPS Martinique
DESCRIPTION:Le CCAS de la Ville de Saint-Esprit vous invite à un « Atelier Chlordéconémie »\, proposé et animé par l’IREPS Martinique\, à destination de son public. \nLes places étant limitées\, inscrivez-vous dès maintenant pour le vendredi 17 mars 2023 à 14h00 précises. \nVous bénéficierez de conseils d’experts en santé environnementale\, pour apprendre les bons gestes et les bons réflexes alimentaires nécessaires pour stopper votre exposition à la chlordécone. \nL’occasion d’en savoir plus sur l’accompagnement personnalisé et gratuit mis en place avec des professionnels de santé. \nDurée de l’atelier : 1h30 \nLieu : CCAS de Saint-Esprit \nAdresse: Rue Schoelcher – 97270 LE SAINT-ESPRIT \nTél: 0596 56 75 06 \nEmail: ccas@mairie-saint-esprit.fr \nPartenaires : Ville de Saint-Esprit – CCAS de Saint-Esprit – ARS Martinique – IREPS Martinique \n______________________ \nModalités d’inscription : participation gratuite mais inscription obligatoire au 0596 56 75 06. \n\nCliquez ici pour en savoir plus sur les « ateliers chlordéconémie »
URL:https://www.jafamatinik.mq/event/atelier-chlordeconemie-17-mars-2023-ireps-martinique/
CATEGORIES:Atelier "Chlordéconémie"
ATTACH;FMTTYPE=image/jpeg:https://www.jafamatinik.mq/wp-content/uploads/2023-JafaVignetteAteliersChlordeconemieSiteJafa-1.jpg
END:VEVENT
BEGIN:VEVENT
DTSTART;TZID=America/Martinique:20230324T080000
DTEND;TZID=America/Martinique:20230324T170000
DTSTAMP:20260423T111439
CREATED:20230310T173344Z
LAST-MODIFIED:20230411T154159Z
UID:2095-1679644800-1679677200@www.jafamatinik.mq
SUMMARY:Atelier Chlordéconémie – 24 mars 2023 – IREPS Martinique
DESCRIPTION:La Ville du Lorrain vous invite à un « Atelier Chlordéconémie »\, proposé et animé par l’IREPS Martinique\, à destination de son public. \nLes places étant limitées\, inscrivez-vous dès maintenant pour le vendredi 24 mars 2023. \nVous bénéficierez de conseils d’experts en santé environnementale\, pour apprendre les bons gestes et les bons réflexes alimentaires nécessaires pour stopper votre exposition à la chlordécone. \nL’occasion d’en savoir plus sur l’accompagnement personnalisé et gratuit mis en place avec des professionnels de santé. \nDurée de l’atelier : 1h30 \nLieu : Maison de la Culture du Lorrain \nPartenaires : Ville du Lorrain – ARS Martinique – IREPS Martinique \n______________________ \nModalités d’inscription : participation gratuite mais inscription obligatoire au 0596 53 28 50. \n\nCliquez ici pour en savoir plus sur les « ateliers chlordéconémie » \n\n 
URL:https://www.jafamatinik.mq/event/atelier-chlordeconemie-24-mars-2023-ireps-martinique/
CATEGORIES:Atelier "Chlordéconémie"
ATTACH;FMTTYPE=image/jpeg:https://www.jafamatinik.mq/wp-content/uploads/2023-JafaVignetteAteliersChlordeconemieSiteJafa-1.jpg
END:VEVENT
BEGIN:VEVENT
DTSTART;TZID=America/Martinique:20230330T180000
DTEND;TZID=America/Martinique:20230330T200000
DTSTAMP:20260423T111439
CREATED:20230310T173645Z
LAST-MODIFIED:20230411T154055Z
UID:2097-1680199200-1680206400@www.jafamatinik.mq
SUMMARY:Atelier Chlordéconémie – 30 mars 2023 – IREPS Martinique
DESCRIPTION:Le CGOSH met en place un « Atelier Chlordéconémie »\, proposé et animé par l’IREPS Martinique\, à destination de son public le jeudi 30 mars 2023 à 18h00. \nL’occasion de bénéficier de conseils d’experts en santé environnementale\, pour apprendre les bons gestes et les bons réflexes alimentaires nécessaires pour stopper son exposition à la chlordécone et d’en savoir plus sur l’accompagnement personnalisé et gratuit mis en place avec des professionnels de santé. \nDurée de l’atelier : 1h30 \nLieu : Centre d’Affaires Delgrès\, Fort-de-France 97200\, Martinique \nPartenaires : CGOSH (Centre Gestion Oeuvres Sociales Hospitalières) – ARS Martinique – IREPS Martinique \n______________________ \nModalités d’inscription : participation gratuite mais inscription obligatoire au 0596 53 28 50. \n\nCliquez ici pour en savoir plus sur les « ateliers chlordéconémie »
URL:https://www.jafamatinik.mq/event/atelier-chlordeconemie-30-mars-2023-ireps-martinique/
LOCATION:https://goo.gl/maps/aLeMynNGmiuwLbWi8
CATEGORIES:Atelier "Chlordéconémie"
ATTACH;FMTTYPE=image/jpeg:https://www.jafamatinik.mq/wp-content/uploads/2023-JafaVignetteAteliersChlordeconemieSiteJafa-1.jpg
END:VEVENT
END:VCALENDAR