BEGIN:VCALENDAR
VERSION:2.0
PRODID:-//Jafa - ECPv6.15.20//NONSGML v1.0//EN
CALSCALE:GREGORIAN
METHOD:PUBLISH
X-ORIGINAL-URL:https://www.jafamatinik.mq
X-WR-CALDESC:Évènements pour Jafa
REFRESH-INTERVAL;VALUE=DURATION:PT1H
X-Robots-Tag:noindex
X-PUBLISHED-TTL:PT1H
BEGIN:VTIMEZONE
TZID:America/Martinique
BEGIN:STANDARD
TZOFFSETFROM:-0400
TZOFFSETTO:-0400
TZNAME:AST
DTSTART:20220101T000000
END:STANDARD
END:VTIMEZONE
BEGIN:VEVENT
DTSTART;TZID=America/Martinique:20230330T180000
DTEND;TZID=America/Martinique:20230330T200000
DTSTAMP:20260423T122922
CREATED:20230310T173645Z
LAST-MODIFIED:20230411T154055Z
UID:2097-1680199200-1680206400@www.jafamatinik.mq
SUMMARY:Atelier Chlordéconémie – 30 mars 2023 – IREPS Martinique
DESCRIPTION:Le CGOSH met en place un « Atelier Chlordéconémie »\, proposé et animé par l’IREPS Martinique\, à destination de son public le jeudi 30 mars 2023 à 18h00. \nL’occasion de bénéficier de conseils d’experts en santé environnementale\, pour apprendre les bons gestes et les bons réflexes alimentaires nécessaires pour stopper son exposition à la chlordécone et d’en savoir plus sur l’accompagnement personnalisé et gratuit mis en place avec des professionnels de santé. \nDurée de l’atelier : 1h30 \nLieu : Centre d’Affaires Delgrès\, Fort-de-France 97200\, Martinique \nPartenaires : CGOSH (Centre Gestion Oeuvres Sociales Hospitalières) – ARS Martinique – IREPS Martinique \n______________________ \nModalités d’inscription : participation gratuite mais inscription obligatoire au 0596 53 28 50. \n\nCliquez ici pour en savoir plus sur les « ateliers chlordéconémie »
URL:https://www.jafamatinik.mq/event/atelier-chlordeconemie-30-mars-2023-ireps-martinique/
LOCATION:https://goo.gl/maps/aLeMynNGmiuwLbWi8
CATEGORIES:Atelier "Chlordéconémie"
ATTACH;FMTTYPE=image/jpeg:https://www.jafamatinik.mq/wp-content/uploads/2023-JafaVignetteAteliersChlordeconemieSiteJafa-1.jpg
END:VEVENT
END:VCALENDAR