BEGIN:VCALENDAR
VERSION:2.0
PRODID:-//Jafa - ECPv6.15.20//NONSGML v1.0//EN
CALSCALE:GREGORIAN
METHOD:PUBLISH
X-WR-CALNAME:Jafa
X-ORIGINAL-URL:https://www.jafamatinik.mq
X-WR-CALDESC:Évènements pour Jafa
REFRESH-INTERVAL;VALUE=DURATION:PT1H
X-Robots-Tag:noindex
X-PUBLISHED-TTL:PT1H
BEGIN:VTIMEZONE
TZID:America/Martinique
BEGIN:STANDARD
TZOFFSETFROM:-0400
TZOFFSETTO:-0400
TZNAME:AST
DTSTART:20220101T000000
END:STANDARD
END:VTIMEZONE
BEGIN:VEVENT
DTSTART;TZID=America/Martinique:20230403T130000
DTEND;TZID=America/Martinique:20230403T143000
DTSTAMP:20260423T112308
CREATED:20230331T124301Z
LAST-MODIFIED:20230411T153547Z
UID:2150-1680526800-1680532200@www.jafamatinik.mq
SUMMARY:Atelier Chlordéconémie – 3 avril 2023 – IREPS Martinique
DESCRIPTION:La Ville de Fort-de-France et ses partenaires mettent en place un « Atelier Chlordéconémie »\, proposé et animé par l’IREPS Martinique\, dans le cadre de sa Journée de la Santé « Actè Santé’w«  qui aura lieu le jeudi 3 avril mars 2023. \nL’occasion de bénéficier de conseils d’experts en santé environnementale\, pour apprendre les bons gestes et les bons réflexes alimentaires nécessaires pour stopper son exposition à la chlordécone et d’en savoir plus sur l’accompagnement personnalisé et gratuit mis en place avec des professionnels de santé. \nDurée de l’atelier : 1h30 \nHoraire de l’atelier : de 13h00 à 14h30 \nLieu : Centre de Prévention Santé et Vaccination\, 8 Avenue Maurice Bishop\, Immeuble du Port\, Sainte-Thérèse\, Fort-de-France 97200\, Martinique \nPartenaires : Ville de Fort-de-France\, CLS de Fort-de-France\, CTM\, ARS Martinique\, IREPS Martinique\, etc \n______________________ \nModalités d’inscription : participation gratuite mais inscription obligatoire au 0596 59 42 56 – animationsante@fortdefrance.fr \n\nCliquez ici pour en savoir plus sur les « ateliers chlordéconémie »
URL:https://www.jafamatinik.mq/event/atelier-chlordeconemie-3-avril-2023-ireps-martinique/
CATEGORIES:Atelier "Chlordéconémie"
ATTACH;FMTTYPE=image/jpeg:https://www.jafamatinik.mq/wp-content/uploads/2023-JafaVignetteAteliersChlordeconemieSiteJafa-1.jpg
END:VEVENT
END:VCALENDAR