BEGIN:VCALENDAR
VERSION:2.0
PRODID:-//Jafa - ECPv6.15.20//NONSGML v1.0//EN
CALSCALE:GREGORIAN
METHOD:PUBLISH
X-ORIGINAL-URL:https://www.jafamatinik.mq
X-WR-CALDESC:Évènements pour Jafa
REFRESH-INTERVAL;VALUE=DURATION:PT1H
X-Robots-Tag:noindex
X-PUBLISHED-TTL:PT1H
BEGIN:VTIMEZONE
TZID:America/Martinique
BEGIN:STANDARD
TZOFFSETFROM:-0400
TZOFFSETTO:-0400
TZNAME:AST
DTSTART:20220101T000000
END:STANDARD
END:VTIMEZONE
BEGIN:VEVENT
DTSTART;TZID=America/Martinique:20230628T140000
DTEND;TZID=America/Martinique:20230628T160000
DTSTAMP:20260423T071513
CREATED:20230411T185218Z
LAST-MODIFIED:20230621T135138Z
UID:2211-1687960800-1687968000@www.jafamatinik.mq
SUMMARY:Atelier Chlordéconémie – 28 juin 2023 – IREPS Martinique : ATELIER ANNULÉ ET REPORTÉ A UNE DATE ULTÉRIEURE
DESCRIPTION:La Ville du Lorrain vous invite à un « Atelier Chlordéconémie »\, proposé et animé par l’IREPS Martinique\, à destination de son public. \nVous bénéficierez de conseils d’experts en santé environnementale\, pour apprendre les bons gestes et les bons réflexes alimentaires nécessaires pour stopper votre exposition à la chlordécone. \nL’occasion d’en savoir plus sur l’accompagnement personnalisé et gratuit mis en place avec des professionnels de santé. \nDate : mercredi 28 juin 2023 \nDurée de l’atelier : 1h30 \nLieu : LORRAIN \nPartenaires : Ville du Lorrain – ARS Martinique – IREPS Martinique \n______________________ \nModalités d’inscription : participation gratuite mais inscription obligatoire au 0596 53 28 50. \n\nCliquez ici pour en savoir plus sur les « ateliers chlordéconémie »
URL:https://www.jafamatinik.mq/event/atelier-chlordeconemie-28-juin-2023-ireps-martinique/
CATEGORIES:Atelier "Chlordéconémie"
ATTACH;FMTTYPE=image/jpeg:https://www.jafamatinik.mq/wp-content/uploads/2023-JafaVignetteAteliersChlordeconemieSiteJafaANNULE.jpg
END:VEVENT
END:VCALENDAR