BEGIN:VCALENDAR
VERSION:2.0
PRODID:-//Jafa - ECPv6.15.20//NONSGML v1.0//EN
CALSCALE:GREGORIAN
METHOD:PUBLISH
X-ORIGINAL-URL:https://www.jafamatinik.mq
X-WR-CALDESC:Évènements pour Jafa
REFRESH-INTERVAL;VALUE=DURATION:PT1H
X-Robots-Tag:noindex
X-PUBLISHED-TTL:PT1H
BEGIN:VTIMEZONE
TZID:America/Martinique
BEGIN:STANDARD
TZOFFSETFROM:-0400
TZOFFSETTO:-0400
TZNAME:AST
DTSTART:20240101T000000
END:STANDARD
END:VTIMEZONE
BEGIN:VEVENT
DTSTART;TZID=America/Martinique:20250325T070000
DTEND;TZID=America/Martinique:20251231T190000
DTSTAMP:20260420T193414
CREATED:20250325T194920Z
LAST-MODIFIED:20250325T194920Z
UID:2671-1742886000-1767207600@www.jafamatinik.mq
SUMMARY:Atelier de sensibilisation à la chlordécone
DESCRIPTION:Tous les deuxièmes vendredis de chaque mois\, participez à un atelier de sensibilisation à la chlordécone\, organisé par l’un de nos partenaires ! \nHoraires : 7h – 19h \nLieu : Lakou Saint-Georges de Batelière\, 97233 Schoelcher (en face de l’école primaire de Batelière) \nParticipation : Gratuite \nInformations : 0696 277 968 ou 0696 178 956
URL:https://www.jafamatinik.mq/event/atelier-de-sensibilisation-a-la-chlordecone/
LOCATION:Lakou Saint-Georges\, Batelière\, Schoelcher\, 97233
ATTACH;FMTTYPE=image/jpeg:https://www.jafamatinik.mq/wp-content/uploads/WhatsApp-Image-2025-03-22-a-13.26.20_3ca34ff8.jpg
ORGANIZER;CN="Le Panier de Gabriel":MAILTO:lepanierdegabriel@gmail.com
END:VEVENT
BEGIN:VEVENT
DTSTART;TZID=America/Martinique:20251203T000000
DTEND;TZID=America/Martinique:20251203T000000
DTSTAMP:20260420T193414
CREATED:20250825T162454Z
LAST-MODIFIED:20250917T155400Z
UID:2771-1764720000-1764720000@www.jafamatinik.mq
SUMMARY:Atelier "Jaden Bokay"
DESCRIPTION:Atelier « Jaden Bokay »\nDes ateliers jardinage\, chez un jardinier amateur\, un particulier ou dans un jardin partagé de votre commune\, pour vivre une expérience d’immersion sur le terrain. \nDes ateliers interactifs\, pour découvrir les bonnes pratiques culturales\, apprendre à planter sur un terrain chlordéconé\, maîtriser les bons gestes pour réduire votre contamination alimentaire à la chlordécone. \n  \nDate : mercredi 3 décembre 2025 \nParticipation gratuite – Inscription obligatoire \nPour en savoir plus et réserver votre place\, contactez la Fredon Martinique au : 05 96 73 58 88
URL:https://www.jafamatinik.mq/event/atelier-jaden-bokay-5/
CATEGORIES:Atelier "Jaden Bokay"
ATTACH;FMTTYPE=image/jpeg:https://www.jafamatinik.mq/wp-content/uploads/JAFA-Fille.jpeg
END:VEVENT
BEGIN:VEVENT
DTSTART;TZID=America/Martinique:20251206T000000
DTEND;TZID=America/Martinique:20251206T000000
DTSTAMP:20260420T193414
CREATED:20250825T182444Z
LAST-MODIFIED:20250917T154647Z
UID:2825-1764979200-1764979200@www.jafamatinik.mq
SUMMARY:Atelier Nutrition
DESCRIPTION:Atelier Nutrition\n\nBien consommer les produits du terroir. \nLes ateliers Jafa en nutrition sont conçus pour apporter des recommandations utiles aux usagers pour leur permettre de bien manger. Ils les aident à améliorer leurs connaissances sur : \n\nl’équilibre\, la diversification et la sécurité alimentaires\nla réduction de l’exposition alimentaire à la chlordécone des consommateurs\nles conseils nutritionnels pour une alimentation saine\, équilibrée et la préservation d’un capital santé\nla valorisation de la production locale et les bienfaits de la consommation des produits de notre terroir\nla qualité gustative des produits agricoles et de l’élevage locaux\n\n\nDate : samedi 6 décembre 2025 \nParticipation gratuite – Inscription obligatoire \nPour en savoir plus et réserver votre place\, contactez la Fredon Martinique au : 05 96 73 58 88
URL:https://www.jafamatinik.mq/event/atelier-nutrition-14/
CATEGORIES:Atelier "Nutrition"
ATTACH;FMTTYPE=image/jpeg:https://www.jafamatinik.mq/wp-content/uploads/AtelierNutrition2025.jpg
END:VEVENT
BEGIN:VEVENT
DTSTART;TZID=America/Martinique:20251212T000000
DTEND;TZID=America/Martinique:20251212T000000
DTSTAMP:20260420T193414
CREATED:20250825T184740Z
LAST-MODIFIED:20250825T184940Z
UID:2830-1765497600-1765497600@www.jafamatinik.mq
SUMMARY:Représentation de la pièce de théâtre « Djol Dou » – 12 décembre 2025
DESCRIPTION: \n \nReprésentation de la pièce de théâtre «Djol Dou»\n\nLa problématique de la chlordécone en Martinique est un sujet qui intéresse tous nos compatriotes. \nLa situation actuelle liée au contexte politique\, à la diffusion de documents sur la gestion de la crise chlordécone aux Antilles par l’État et ses diverses administrations\, aux mobilisations via les réseaux sociaux\, etc… montrent assez la préoccupation des martiniquais sur cette problématique de santé. \nLes médias relaient régulièrement des informations sur les différentes sources d’exposition possibles. \nRéalisée par la troupe « KANT E KANT »\, la pièce de théâtre itinérante « Djol dou !»  aborde avec humour les grands thèmes de questionnement de la population sur la gestion du chlordécone au quotidien. \nPour en savoir plus sur la pièce de théâtre « Dol dou » \n________________________ \nDate : vendredi 12 décembre 2025 \n________________________ \nModalités d’inscriptions : REPRÉSENTATION GRATUITE mais INSCRIPTION OBLIGATOIRE \nPour en savoir plus et réserver votre place\, contactez la Fredon Martinique au : 05 96 73 58 88
URL:https://www.jafamatinik.mq/event/representation-de-la-piece-de-theatre-djol-dou-12-decembre-2025/
CATEGORIES:Débat théâtralisé
ATTACH;FMTTYPE=image/jpeg:https://www.jafamatinik.mq/wp-content/uploads/DjolDou2025.jpg
END:VEVENT
BEGIN:VEVENT
DTSTART;TZID=America/Martinique:20251213T000000
DTEND;TZID=America/Martinique:20251213T000000
DTSTAMP:20260420T193414
CREATED:20250825T182655Z
LAST-MODIFIED:20250917T153956Z
UID:2828-1765584000-1765584000@www.jafamatinik.mq
SUMMARY:Atelier Nutrition
DESCRIPTION:Atelier Nutrition\n\nBien consommer les produits du terroir. \nLes ateliers Jafa en nutrition sont conçus pour apporter des recommandations utiles aux usagers pour leur permettre de bien manger. Ils les aident à améliorer leurs connaissances sur : \n\nl’équilibre\, la diversification et la sécurité alimentaires\nla réduction de l’exposition alimentaire à la chlordécone des consommateurs\nles conseils nutritionnels pour une alimentation saine\, équilibrée et la préservation d’un capital santé\nla valorisation de la production locale et les bienfaits de la consommation des produits de notre terroir\nla qualité gustative des produits agricoles et de l’élevage locaux\n\n\nDate : samedi 13 décembre 2025 \nParticipation gratuite – Inscription obligatoire \nPour en savoir plus et réserver votre place\, contactez la Fredon Martinique au : 05 96 73 58 88
URL:https://www.jafamatinik.mq/event/atelier-nutrition-15/
CATEGORIES:Atelier "Nutrition"
ATTACH;FMTTYPE=image/jpeg:https://www.jafamatinik.mq/wp-content/uploads/AtelierNutrition2025.jpg
END:VEVENT
END:VCALENDAR