BEGIN:VCALENDAR
VERSION:2.0
PRODID:-//Jafa - ECPv6.15.20//NONSGML v1.0//EN
CALSCALE:GREGORIAN
METHOD:PUBLISH
X-WR-CALNAME:Jafa
X-ORIGINAL-URL:https://www.jafamatinik.mq
X-WR-CALDESC:Évènements pour Jafa
REFRESH-INTERVAL;VALUE=DURATION:PT1H
X-Robots-Tag:noindex
X-PUBLISHED-TTL:PT1H
BEGIN:VTIMEZONE
TZID:America/Martinique
BEGIN:STANDARD
TZOFFSETFROM:-0400
TZOFFSETTO:-0400
TZNAME:AST
DTSTART:20250101T000000
END:STANDARD
END:VTIMEZONE
BEGIN:VEVENT
DTSTART;TZID=America/Martinique:20260328T000000
DTEND;TZID=America/Martinique:20260328T000000
DTSTAMP:20260420T144201
CREATED:20250825T185146Z
LAST-MODIFIED:20250825T185146Z
UID:2837-1774656000-1774656000@www.jafamatinik.mq
SUMMARY:Représentation de la pièce de théâtre « Djol Dou » – 28 mars 2026
DESCRIPTION:Représentation de la pièce de théâtre «Djol Dou»\n\nLa problématique de la chlordécone en Martinique est un sujet qui intéresse tous nos compatriotes. \nLa situation actuelle liée au contexte politique\, à la diffusion de documents sur la gestion de la crise chlordécone aux Antilles par l’État et ses diverses administrations\, aux mobilisations via les réseaux sociaux\, etc… montrent assez la préoccupation des martiniquais sur cette problématique de santé. \nLes médias relaient régulièrement des informations sur les différentes sources d’exposition possibles. \nRéalisée par la troupe « KANT E KANT »\, la pièce de théâtre itinérante « Djol dou !»  aborde avec humour les grands thèmes de questionnement de la population sur la gestion du chlordécone au quotidien. \nPour en savoir plus sur la pièce de théâtre « Dol dou » \n________________________ \nDate : samedi 28 mars 2026 \n________________________ \nModalités d’inscriptions : REPRÉSENTATION GRATUITE mais INSCRIPTION OBLIGATOIRE \nPour en savoir plus et réserver votre place\, contactez la Fredon Martinique au : 05 96 73 58 88
URL:https://www.jafamatinik.mq/event/representation-de-la-piece-de-theatre-djol-dou-28-mars-2026/
CATEGORIES:Débat théâtralisé
ATTACH;FMTTYPE=image/jpeg:https://www.jafamatinik.mq/wp-content/uploads/DjolDou2025.jpg
END:VEVENT
END:VCALENDAR